Package: DEWSeq Version: 1.22.0 Command: /Library/Frameworks/R.framework/Resources/bin/R CMD INSTALL DEWSeq StartedAt: 2025-10-06 16:22:18 -0400 (Mon, 06 Oct 2025) EndedAt: 2025-10-06 16:22:50 -0400 (Mon, 06 Oct 2025) EllapsedTime: 31.5 seconds RetCode: 0 Status: OK