Package: DESpace Version: 2.2.1 Command: /home/biocbuild/bbs-3.22-bioc/R/bin/R CMD INSTALL DESpace StartedAt: 2025-11-11 15:25:38 -0500 (Tue, 11 Nov 2025) EndedAt: 2025-11-11 15:26:20 -0500 (Tue, 11 Nov 2025) EllapsedTime: 41.9 seconds RetCode: 0 Status: OK