Package: DESpace Version: 2.2.1 Command: /home/biocbuild/bbs-3.22-bioc/R/bin/R CMD build --keep-empty-dirs --no-resave-data --md5 DESpace StartedAt: 2025-11-11 17:21:53 -0500 (Tue, 11 Nov 2025) EndedAt: 2025-11-11 17:33:20 -0500 (Tue, 11 Nov 2025) EllapsedTime: 686.5 seconds RetCode: 0 Status: OK PackageFile: DESpace_2.2.1.tar.gz PackageFileSize: 6.869 MiB