Package: DESpace Version: 2.2.1 Command: /Library/Frameworks/R.framework/Resources/bin/R CMD INSTALL DESpace StartedAt: 2025-11-10 15:13:58 -0500 (Mon, 10 Nov 2025) EndedAt: 2025-11-10 15:14:14 -0500 (Mon, 10 Nov 2025) EllapsedTime: 16.0 seconds RetCode: 0 Status: OK