Package: DESpace Version: 2.2.1 Command: /Library/Frameworks/R.framework/Resources/bin/R CMD build --keep-empty-dirs --no-resave-data DESpace StartedAt: 2025-11-10 16:11:31 -0500 (Mon, 10 Nov 2025) EndedAt: 2025-11-10 16:16:48 -0500 (Mon, 10 Nov 2025) EllapsedTime: 317.4 seconds RetCode: 0 Status: OK PackageFile: DESpace_2.2.1.tar.gz PackageFileSize: 9.59 MiB