Package: DESpace Version: 2.2.1 Command: rm -rf DESpace.buildbin-libdir && mkdir DESpace.buildbin-libdir && /Users/biocbuild/BBS/utils/build-universal.sh DESpace_2.2.1.tar.gz /Library/Frameworks/R.framework/Resources/bin/R DESpace.buildbin-libdir StartedAt: 2025-11-10 23:17:49 -0500 (Mon, 10 Nov 2025) EndedAt: 2025-11-10 23:18:07 -0500 (Mon, 10 Nov 2025) EllapsedTime: 18.3 seconds RetCode: 0 Status: OK PackageFile: DESpace_2.2.1.tgz PackageFileSize: 9.663 MiB