Package: DESeq2 Version: 1.50.2 Command: /home/biocbuild/bbs-3.22-bioc/R/bin/R CMD INSTALL DESeq2 StartedAt: 2025-11-16 15:21:32 -0500 (Sun, 16 Nov 2025) EndedAt: 2025-11-16 15:22:21 -0500 (Sun, 16 Nov 2025) EllapsedTime: 48.8 seconds RetCode: 0 Status: OK