Package: DESeq2 Version: 1.50.2 Command: /home/biocbuild/bbs-3.22-bioc/R/bin/R CMD build --keep-empty-dirs --no-resave-data --md5 DESeq2 StartedAt: 2025-11-16 17:24:19 -0500 (Sun, 16 Nov 2025) EndedAt: 2025-11-16 17:26:21 -0500 (Sun, 16 Nov 2025) EllapsedTime: 122.1 seconds RetCode: 0 Status: OK PackageFile: DESeq2_1.50.2.tar.gz PackageFileSize: 2.563 MiB