Package: DEScan2 Version: 1.30.0 Command: /home/biocbuild/bbs-3.22-bioc/R/bin/R CMD INSTALL DEScan2 StartedAt: 2025-11-11 15:57:37 -0500 (Tue, 11 Nov 2025) EndedAt: 2025-11-11 15:58:40 -0500 (Tue, 11 Nov 2025) EllapsedTime: 63.4 seconds RetCode: 0 Status: OK