Package: DEP Version: 1.32.0 Command: /home/biocbuild/bbs-3.22-bioc/R/bin/R CMD build --keep-empty-dirs --no-resave-data --md5 DEP StartedAt: 2025-11-11 17:20:29 -0500 (Tue, 11 Nov 2025) EndedAt: 2025-11-11 17:22:00 -0500 (Tue, 11 Nov 2025) EllapsedTime: 91.1 seconds RetCode: 0 Status: OK PackageFile: DEP_1.32.0.tar.gz PackageFileSize: 3.437 MiB