Package: DEP Version: 1.30.0 Command: /home/biocbuild/R/R/bin/R CMD build --keep-empty-dirs --no-resave-data DEP StartedAt: 2025-10-14 00:17:12 -0000 (Tue, 14 Oct 2025) EndedAt: 2025-10-14 00:19:40 -0000 (Tue, 14 Oct 2025) EllapsedTime: 148.1 seconds RetCode: 0 Status: OK PackageFile: DEP_1.30.0.tar.gz PackageFileSize: 3.125 MiB