Package: DEP Version: 1.30.0 Command: /Library/Frameworks/R.framework/Resources/bin/R CMD build --keep-empty-dirs --no-resave-data DEP StartedAt: 2025-04-21 16:09:12 -0400 (Mon, 21 Apr 2025) EndedAt: 2025-04-21 16:09:53 -0400 (Mon, 21 Apr 2025) EllapsedTime: 40.5 seconds RetCode: 0 Status: OK PackageFile: DEP_1.30.0.tar.gz PackageFileSize: 3.385 MiB