Package: DELocal Version: 1.10.0 Command: /home/biocbuild/bbs-3.22-bioc/R/bin/R CMD build --keep-empty-dirs --no-resave-data --md5 DELocal StartedAt: 2025-11-11 17:19:39 -0500 (Tue, 11 Nov 2025) EndedAt: 2025-11-11 17:20:15 -0500 (Tue, 11 Nov 2025) EllapsedTime: 36.1 seconds RetCode: 1 Status: ERROR PackageFile: None PackageFileSize: NA