Package: DELocal Version: 1.10.0 Command: /Library/Frameworks/R.framework/Resources/bin/R CMD INSTALL DELocal StartedAt: 2025-11-10 15:14:13 -0500 (Mon, 10 Nov 2025) EndedAt: 2025-11-10 15:14:23 -0500 (Mon, 10 Nov 2025) EllapsedTime: 10.1 seconds RetCode: 0 Status: OK