Package: DELocal Version: 1.10.0 Command: /Library/Frameworks/R.framework/Resources/bin/R CMD build --keep-empty-dirs --no-resave-data DELocal StartedAt: 2025-11-10 16:10:16 -0500 (Mon, 10 Nov 2025) EndedAt: 2025-11-10 16:10:31 -0500 (Mon, 10 Nov 2025) EllapsedTime: 15.2 seconds RetCode: 1 Status: ERROR PackageFile: None PackageFileSize: NA