Package: DEGseq Version: 1.64.0 Command: /home/biocbuild/bbs-3.22-bioc/R/bin/R CMD INSTALL DEGseq StartedAt: 2025-11-11 15:14:02 -0500 (Tue, 11 Nov 2025) EndedAt: 2025-11-11 15:14:31 -0500 (Tue, 11 Nov 2025) EllapsedTime: 28.5 seconds RetCode: 0 Status: OK