Package: DEGseq Version: 1.64.0 Command: /home/biocbuild/bbs-3.22-bioc/R/bin/R CMD check --install=check:DEGseq.install-out.txt --library=/home/biocbuild/bbs-3.22-bioc/R/site-library --timings DEGseq_1.64.0.tar.gz StartedAt: 2025-11-20 23:39:00 -0500 (Thu, 20 Nov 2025) EndedAt: 2025-11-20 23:39:41 -0500 (Thu, 20 Nov 2025) EllapsedTime: 41.0 seconds RetCode: 0 Status: WARNINGS CheckDir: DEGseq.Rcheck Warnings: 1