Package: DEGseq Version: 1.64.0 Command: /Library/Frameworks/R.framework/Resources/bin/R CMD build --keep-empty-dirs --no-resave-data DEGseq StartedAt: 2025-11-03 16:44:34 -0500 (Mon, 03 Nov 2025) EndedAt: 2025-11-03 16:45:06 -0500 (Mon, 03 Nov 2025) EllapsedTime: 31.9 seconds RetCode: 0 Status: OK PackageFile: DEGseq_1.64.0.tar.gz PackageFileSize: 1.96 MiB