Package: DEGseq Version: 1.62.0 Command: /home/biocbuild/R/R/bin/R CMD INSTALL DEGseq StartedAt: 2025-10-13 20:21:03 -0000 (Mon, 13 Oct 2025) EndedAt: 2025-10-13 20:21:43 -0000 (Mon, 13 Oct 2025) EllapsedTime: 39.6 seconds RetCode: 0 Status: OK