Package: DEGreport Version: 1.46.0 Command: /home/biocbuild/bbs-3.22-bioc/R/bin/R CMD INSTALL DEGreport StartedAt: 2025-11-02 15:47:51 -0500 (Sun, 02 Nov 2025) EndedAt: 2025-11-02 15:48:34 -0500 (Sun, 02 Nov 2025) EllapsedTime: 42.8 seconds RetCode: 0 Status: OK