Package: DEGreport Version: 1.46.0 Command: /home/biocbuild/bbs-3.22-bioc/R/bin/R CMD build --keep-empty-dirs --no-resave-data --md5 DEGreport StartedAt: 2025-11-02 17:29:36 -0500 (Sun, 02 Nov 2025) EndedAt: 2025-11-02 17:30:56 -0500 (Sun, 02 Nov 2025) EllapsedTime: 79.1 seconds RetCode: 0 Status: OK PackageFile: DEGreport_1.46.0.tar.gz PackageFileSize: 19.58 MiB