Package: DEGraph Version: 1.62.0 Command: /home/biocbuild/bbs-3.22-bioc/R/bin/R CMD INSTALL DEGraph StartedAt: 2025-11-13 15:16:02 -0500 (Thu, 13 Nov 2025) EndedAt: 2025-11-13 15:16:11 -0500 (Thu, 13 Nov 2025) EllapsedTime: 8.2 seconds RetCode: 0 Status: OK