Package: DEGraph Version: 1.62.0 Command: /home/biocbuild/bbs-3.22-bioc/R/bin/R CMD check --install=check:DEGraph.install-out.txt --library=/home/biocbuild/bbs-3.22-bioc/R/site-library --timings DEGraph_1.62.0.tar.gz StartedAt: 2025-11-14 22:58:58 -0500 (Fri, 14 Nov 2025) EndedAt: 2025-11-14 23:00:22 -0500 (Fri, 14 Nov 2025) EllapsedTime: 83.0 seconds RetCode: 0 Status: OK CheckDir: DEGraph.Rcheck Warnings: 0