Package: DEGraph Version: 1.60.0 Command: /home/biocbuild/bbs-3.21-bioc/R/bin/R CMD INSTALL DEGraph StartedAt: 2025-10-15 15:31:41 -0400 (Wed, 15 Oct 2025) EndedAt: 2025-10-15 15:31:50 -0400 (Wed, 15 Oct 2025) EllapsedTime: 8.6 seconds RetCode: 0 Status: OK