Package: DEGraph Version: 1.60.0 Command: /home/biocbuild/R/R/bin/R CMD INSTALL DEGraph StartedAt: 2025-10-06 20:26:50 -0000 (Mon, 06 Oct 2025) EndedAt: 2025-10-06 20:27:03 -0000 (Mon, 06 Oct 2025) EllapsedTime: 13.8 seconds RetCode: 0 Status: OK