Package: DEGraph Version: 1.60.0 Command: /home/biocbuild/R/R/bin/R CMD build --keep-empty-dirs --no-resave-data DEGraph StartedAt: 2025-10-07 00:15:27 -0000 (Tue, 07 Oct 2025) EndedAt: 2025-10-07 00:15:59 -0000 (Tue, 07 Oct 2025) EllapsedTime: 31.0 seconds RetCode: 0 Status: OK PackageFile: DEGraph_1.60.0.tar.gz PackageFileSize: 1.528 MiB