Package: DEFormats Version: 1.38.0 Command: /home/biocbuild/bbs-3.22-bioc/R/bin/R CMD INSTALL DEFormats StartedAt: 2025-11-11 15:34:24 -0500 (Tue, 11 Nov 2025) EndedAt: 2025-11-11 15:34:50 -0500 (Tue, 11 Nov 2025) EllapsedTime: 25.9 seconds RetCode: 0 Status: OK