Package: DEFormats Version: 1.36.0 Command: /home/biocbuild/R/R/bin/R CMD INSTALL DEFormats StartedAt: 2025-10-13 20:39:12 -0000 (Mon, 13 Oct 2025) EndedAt: 2025-10-13 20:39:49 -0000 (Mon, 13 Oct 2025) EllapsedTime: 37.2 seconds RetCode: 0 Status: OK