Package: DEFormats Version: 1.36.0 Command: /home/biocbuild/R/R/bin/R CMD build --keep-empty-dirs --no-resave-data DEFormats StartedAt: 2025-10-14 00:12:43 -0000 (Tue, 14 Oct 2025) EndedAt: 2025-10-14 00:13:39 -0000 (Tue, 14 Oct 2025) EllapsedTime: 56.0 seconds RetCode: 0 Status: OK PackageFile: DEFormats_1.36.0.tar.gz PackageFileSize: 250.9 KiB