Package: DEFormats Version: 1.36.0 Command: rm -rf DEFormats.buildbin-libdir && mkdir DEFormats.buildbin-libdir && /Users/biocbuild/BBS/utils/build-universal.sh DEFormats_1.36.0.tar.gz /Library/Frameworks/R.framework/Resources/bin/R DEFormats.buildbin-libdir StartedAt: 2025-04-21 22:32:22 -0400 (Mon, 21 Apr 2025) EndedAt: 2025-04-21 22:32:34 -0400 (Mon, 21 Apr 2025) EllapsedTime: 12.2 seconds RetCode: 0 Status: OK PackageFile: DEFormats_1.36.0.tgz PackageFileSize: 487.1 KiB