Package: DECIPHER Version: 3.6.0 Command: /home/biocbuild/bbs-3.22-bioc/R/bin/R CMD INSTALL DECIPHER StartedAt: 2025-11-11 15:36:24 -0500 (Tue, 11 Nov 2025) EndedAt: 2025-11-11 15:37:23 -0500 (Tue, 11 Nov 2025) EllapsedTime: 58.6 seconds RetCode: 0 Status: OK