Package: DECIPHER Version: 3.6.0 Command: /home/biocbuild/bbs-3.22-bioc/R/bin/R CMD build --keep-empty-dirs --no-resave-data --md5 DECIPHER StartedAt: 2025-11-11 17:15:55 -0500 (Tue, 11 Nov 2025) EndedAt: 2025-11-11 17:35:09 -0500 (Tue, 11 Nov 2025) EllapsedTime: 1154.0 seconds RetCode: 0 Status: OK PackageFile: DECIPHER_3.6.0.tar.gz PackageFileSize: 17.9 MiB