Package: DECIPHER Version: 3.4.0 Command: /home/biocbuild/R/R/bin/R CMD INSTALL DECIPHER StartedAt: 2025-10-13 20:47:02 -0000 (Mon, 13 Oct 2025) EndedAt: 2025-10-13 20:48:35 -0000 (Mon, 13 Oct 2025) EllapsedTime: 92.5 seconds RetCode: 0 Status: OK