Package: DECIPHER Version: 3.4.0 Command: /Library/Frameworks/R.framework/Resources/bin/R CMD build --keep-empty-dirs --no-resave-data DECIPHER StartedAt: 2025-04-21 16:06:24 -0400 (Mon, 21 Apr 2025) EndedAt: 2025-04-21 16:16:03 -0400 (Mon, 21 Apr 2025) EllapsedTime: 578.4 seconds RetCode: 0 Status: OK PackageFile: DECIPHER_3.4.0.tar.gz PackageFileSize: 17.89 MiB