Package: DECIPHER Version: 3.4.0 Command: rm -rf DECIPHER.buildbin-libdir && mkdir DECIPHER.buildbin-libdir && /Users/biocbuild/BBS/utils/build-universal.sh DECIPHER_3.4.0.tar.gz /Library/Frameworks/R.framework/Resources/bin/R DECIPHER.buildbin-libdir StartedAt: 2025-04-21 22:32:16 -0400 (Mon, 21 Apr 2025) EndedAt: 2025-04-21 22:32:39 -0400 (Mon, 21 Apr 2025) EllapsedTime: 23.4 seconds RetCode: 0 Status: OK PackageFile: DECIPHER_3.4.0.tgz PackageFileSize: 17.33 MiB