Package: DCATS Version: 1.8.0 Command: /home/biocbuild/bbs-3.22-bioc/R/bin/R CMD build --keep-empty-dirs --no-resave-data --md5 DCATS StartedAt: 2025-11-11 17:15:30 -0500 (Tue, 11 Nov 2025) EndedAt: 2025-11-11 17:15:43 -0500 (Tue, 11 Nov 2025) EllapsedTime: 13.0 seconds RetCode: 0 Status: OK PackageFile: DCATS_1.8.0.tar.gz PackageFileSize: 2.837 MiB