Package: DCATS Version: 1.8.0 Command: rm -rf DCATS.buildbin-libdir && mkdir DCATS.buildbin-libdir && /Users/biocbuild/BBS/utils/build-universal.sh DCATS_1.8.0.tar.gz /Library/Frameworks/R.framework/Resources/bin/R DCATS.buildbin-libdir StartedAt: 2025-11-01 01:30:18 -0400 (Sat, 01 Nov 2025) EndedAt: 2025-11-01 01:30:27 -0400 (Sat, 01 Nov 2025) EllapsedTime: 9.4 seconds RetCode: 0 Status: OK PackageFile: DCATS_1.8.0.tgz PackageFileSize: 2.866 MiB