Package: DCATS Version: 1.8.0 Command: /Library/Frameworks/R.framework/Resources/bin/R CMD INSTALL DCATS StartedAt: 2025-11-10 15:03:06 -0500 (Mon, 10 Nov 2025) EndedAt: 2025-11-10 15:03:10 -0500 (Mon, 10 Nov 2025) EllapsedTime: 4.2 seconds RetCode: 0 Status: OK