Package: DCATS Version: 1.8.0 Command: /Library/Frameworks/R.framework/Resources/bin/R CMD build --keep-empty-dirs --no-resave-data DCATS StartedAt: 2025-11-10 16:07:50 -0500 (Mon, 10 Nov 2025) EndedAt: 2025-11-10 16:07:56 -0500 (Mon, 10 Nov 2025) EllapsedTime: 6.1 seconds RetCode: 0 Status: OK PackageFile: DCATS_1.8.0.tar.gz PackageFileSize: 2.836 MiB