Package: DCATS Version: 1.8.0 Command: rm -rf DCATS.buildbin-libdir && mkdir DCATS.buildbin-libdir && /Users/biocbuild/BBS/utils/build-universal.sh DCATS_1.8.0.tar.gz /Library/Frameworks/R.framework/Resources/bin/R DCATS.buildbin-libdir StartedAt: 2025-11-10 23:17:07 -0500 (Mon, 10 Nov 2025) EndedAt: 2025-11-10 23:17:10 -0500 (Mon, 10 Nov 2025) EllapsedTime: 3.0 seconds RetCode: 0 Status: OK PackageFile: DCATS_1.8.0.tgz PackageFileSize: 2.867 MiB