Package: DART Version: 1.58.0 Command: /home/biocbuild/bbs-3.22-bioc/R/bin/R CMD INSTALL DART StartedAt: 2025-11-11 15:09:44 -0500 (Tue, 11 Nov 2025) EndedAt: 2025-11-11 15:09:59 -0500 (Tue, 11 Nov 2025) EllapsedTime: 14.9 seconds RetCode: 0 Status: OK