Package: DART Version: 1.58.0 Command: /home/biocbuild/bbs-3.22-bioc/R/bin/R CMD check --install=check:DART.install-out.txt --library=/home/biocbuild/bbs-3.22-bioc/R/site-library --timings DART_1.58.0.tar.gz StartedAt: 2025-11-11 22:50:21 -0500 (Tue, 11 Nov 2025) EndedAt: 2025-11-11 22:51:08 -0500 (Tue, 11 Nov 2025) EllapsedTime: 47.0 seconds RetCode: 0 Status: OK CheckDir: DART.Rcheck Warnings: 0