Package: DART Version: 1.58.0 Command: /home/biocbuild/bbs-3.22-bioc/R/bin/R CMD build --keep-empty-dirs --no-resave-data --md5 DART StartedAt: 2025-11-11 17:15:19 -0500 (Tue, 11 Nov 2025) EndedAt: 2025-11-11 17:15:39 -0500 (Tue, 11 Nov 2025) EllapsedTime: 20.0 seconds RetCode: 0 Status: OK PackageFile: DART_1.58.0.tar.gz PackageFileSize: 1.989 MiB