Package: DART Version: 1.56.0 Command: /home/biocbuild/bbs-3.21-bioc/R/bin/R CMD INSTALL DART StartedAt: 2025-10-15 15:05:08 -0400 (Wed, 15 Oct 2025) EndedAt: 2025-10-15 15:05:23 -0400 (Wed, 15 Oct 2025) EllapsedTime: 15.2 seconds RetCode: 0 Status: OK