Package: DART Version: 1.56.0 Command: /Library/Frameworks/R.framework/Resources/bin/R CMD build --keep-empty-dirs --no-resave-data DART StartedAt: 2025-04-21 16:29:42 -0400 (Mon, 21 Apr 2025) EndedAt: 2025-04-21 16:30:09 -0400 (Mon, 21 Apr 2025) EllapsedTime: 27.5 seconds RetCode: 0 Status: OK PackageFile: DART_1.56.0.tar.gz PackageFileSize: 1.988 MiB