Package: DART Version: 1.56.0 Command: /Library/Frameworks/R.framework/Resources/bin/R CMD INSTALL DART StartedAt: 2025-10-13 15:16:56 -0400 (Mon, 13 Oct 2025) EndedAt: 2025-10-13 15:17:00 -0400 (Mon, 13 Oct 2025) EllapsedTime: 4.0 seconds RetCode: 0 Status: OK