Package: DART Version: 1.56.0 Command: rm -rf DART.buildbin-libdir && mkdir DART.buildbin-libdir && /Users/biocbuild/BBS/utils/build-universal.sh DART_1.56.0.tar.gz /Library/Frameworks/R.framework/Resources/bin/R DART.buildbin-libdir StartedAt: 2025-10-15 18:08:52 -0400 (Wed, 15 Oct 2025) EndedAt: 2025-10-15 18:08:57 -0400 (Wed, 15 Oct 2025) EllapsedTime: 4.5 seconds RetCode: 0 Status: OK PackageFile: DART_1.56.0.tgz PackageFileSize: 2.028 MiB