Package: DAPAR Version: 1.42.0 Command: /home/biocbuild/bbs-3.22-bioc/R/bin/R CMD INSTALL DAPAR StartedAt: 2025-11-11 15:41:47 -0500 (Tue, 11 Nov 2025) EndedAt: 2025-11-11 15:42:30 -0500 (Tue, 11 Nov 2025) EllapsedTime: 43.3 seconds RetCode: 0 Status: OK