Package: DAPAR Version: 1.42.0 Command: /Library/Frameworks/R.framework/Resources/bin/R CMD INSTALL DAPAR StartedAt: 2025-10-31 15:45:35 -0400 (Fri, 31 Oct 2025) EndedAt: 2025-10-31 15:46:35 -0400 (Fri, 31 Oct 2025) EllapsedTime: 60.3 seconds RetCode: 0 Status: OK