Package: DAPAR Version: 1.42.0 Command: /Library/Frameworks/R.framework/Resources/bin/R CMD build --keep-empty-dirs --no-resave-data DAPAR StartedAt: 2025-11-02 16:45:54 -0500 (Sun, 02 Nov 2025) EndedAt: 2025-11-02 16:45:56 -0500 (Sun, 02 Nov 2025) EllapsedTime: 2.3 seconds RetCode: 0 Status: OK PackageFile: DAPAR_1.42.0.tar.gz PackageFileSize: 150.4 KiB